BEGIN:VCALENDAR
VERSION:2.0
PRODID:-//hacksw/handcal//NONSGML v1.0//EN
BEGIN:VEVENT
DTSTAMP:20190511T070000Z
DTSTART:20190511T070000Z
DTEND:20190511T080000Z
SUMMARY:Treffen mit Torbjörn Kartes in Rödersheim-Gronau bei Ivo´s Blumenoase 
END:VEVENT
END:VCALENDAR
